BEGIN:VCALENDAR
VERSION:2.0
PRODID:-//AANA - American Association of Nurse Anesthesiology - ECPv6.15.14//NONSGML v1.0//EN
CALSCALE:GREGORIAN
METHOD:PUBLISH
X-WR-CALNAME:AANA - American Association of Nurse Anesthesiology
X-ORIGINAL-URL:https://www.aana.com
X-WR-CALDESC:Events for AANA - American Association of Nurse Anesthesiology
REFRESH-INTERVAL;VALUE=DURATION:PT1H
X-Robots-Tag:noindex
X-PUBLISHED-TTL:PT1H
BEGIN:VTIMEZONE
TZID:America/Chicago
BEGIN:DAYLIGHT
TZOFFSETFROM:-0600
TZOFFSETTO:-0500
TZNAME:CDT
DTSTART:20250309T080000
END:DAYLIGHT
BEGIN:STANDARD
TZOFFSETFROM:-0500
TZOFFSETTO:-0600
TZNAME:CST
DTSTART:20251102T070000
END:STANDARD
BEGIN:DAYLIGHT
TZOFFSETFROM:-0600
TZOFFSETTO:-0500
TZNAME:CDT
DTSTART:20260308T080000
END:DAYLIGHT
BEGIN:STANDARD
TZOFFSETFROM:-0500
TZOFFSETTO:-0600
TZNAME:CST
DTSTART:20261101T070000
END:STANDARD
BEGIN:DAYLIGHT
TZOFFSETFROM:-0600
TZOFFSETTO:-0500
TZNAME:CDT
DTSTART:20270314T080000
END:DAYLIGHT
BEGIN:STANDARD
TZOFFSETFROM:-0500
TZOFFSETTO:-0600
TZNAME:CST
DTSTART:20271107T070000
END:STANDARD
END:VTIMEZONE
BEGIN:VEVENT
DTSTART;VALUE=DATE:20260430
DTEND;VALUE=DATE:20260501
DTSTAMP:20260421T145652
CREATED:20260212T164354Z
LAST-MODIFIED:20260311T162033Z
UID:38607-1777507200-1777593599@www.aana.com
SUMMARY:Deadline for EDGE 2027 Abstracts
DESCRIPTION:Submit your abstract for consideration at AANA EDGE 2027\, where the latest\, cutting-edge clinical anesthesia knowledge will be presented! \nKEY DATES \n\nSubmission deadline: April 30\, 2026 at 11:59 p.m. (CT) \nGrading deadline: July 31\, 2026 \nNotification deadline: Sept. 4\, 2026\n\nSubmit your abstract
URL:https://www.aana.com/event/edge-2027-submit-your-abstract/
CATEGORIES:AANA Events,AANA Events & Deadlines
ORGANIZER;CN="American Association of Nurse Anesthesiology":MAILTO:online-education@aana.com
END:VEVENT
BEGIN:VEVENT
DTSTART;TZID=America/Chicago:20260421T190000
DTEND;TZID=America/Chicago:20260421T200000
DTSTAMP:20260421T145652
CREATED:20260312T140625Z
LAST-MODIFIED:20260409T202721Z
UID:39416-1776798000-1776801600@www.aana.com
SUMMARY:Candidate Conversations — Officers
DESCRIPTION:Join us for Candidate Conversations with those running for AANA elected positions — a chance to hear directly from candidates about their ideas\, priorities\, and vision for the profession. Compare perspectives and make more informed decisions about the future of nurse anesthesiology leadership. \nRegister Now
URL:https://www.aana.com/event/candidate-conversations-officers/
CATEGORIES:AANA Elections,AANA Events,AANA Events & Deadlines
END:VEVENT
END:VCALENDAR