BEGIN:VCALENDAR
VERSION:2.0
PRODID:-//AANA - American Association of Nurse Anesthesiology - ECPv6.15.14//NONSGML v1.0//EN
CALSCALE:GREGORIAN
METHOD:PUBLISH
X-ORIGINAL-URL:https://www.aana.com
X-WR-CALDESC:Events for AANA - American Association of Nurse Anesthesiology
REFRESH-INTERVAL;VALUE=DURATION:PT1H
X-Robots-Tag:noindex
X-PUBLISHED-TTL:PT1H
BEGIN:VTIMEZONE
TZID:America/Chicago
BEGIN:DAYLIGHT
TZOFFSETFROM:-0600
TZOFFSETTO:-0500
TZNAME:CDT
DTSTART:20250309T080000
END:DAYLIGHT
BEGIN:STANDARD
TZOFFSETFROM:-0500
TZOFFSETTO:-0600
TZNAME:CST
DTSTART:20251102T070000
END:STANDARD
BEGIN:DAYLIGHT
TZOFFSETFROM:-0600
TZOFFSETTO:-0500
TZNAME:CDT
DTSTART:20260308T080000
END:DAYLIGHT
BEGIN:STANDARD
TZOFFSETFROM:-0500
TZOFFSETTO:-0600
TZNAME:CST
DTSTART:20261101T070000
END:STANDARD
BEGIN:DAYLIGHT
TZOFFSETFROM:-0600
TZOFFSETTO:-0500
TZNAME:CDT
DTSTART:20270314T080000
END:DAYLIGHT
BEGIN:STANDARD
TZOFFSETFROM:-0500
TZOFFSETTO:-0600
TZNAME:CST
DTSTART:20271107T070000
END:STANDARD
BEGIN:DAYLIGHT
TZOFFSETFROM:-0600
TZOFFSETTO:-0500
TZNAME:CDT
DTSTART:20280312T080000
END:DAYLIGHT
BEGIN:STANDARD
TZOFFSETFROM:-0500
TZOFFSETTO:-0600
TZNAME:CST
DTSTART:20281105T070000
END:STANDARD
BEGIN:DAYLIGHT
TZOFFSETFROM:-0600
TZOFFSETTO:-0500
TZNAME:CDT
DTSTART:20290311T080000
END:DAYLIGHT
BEGIN:STANDARD
TZOFFSETFROM:-0500
TZOFFSETTO:-0600
TZNAME:CST
DTSTART:20291104T070000
END:STANDARD
BEGIN:DAYLIGHT
TZOFFSETFROM:-0600
TZOFFSETTO:-0500
TZNAME:CDT
DTSTART:20300310T080000
END:DAYLIGHT
BEGIN:STANDARD
TZOFFSETFROM:-0500
TZOFFSETTO:-0600
TZNAME:CST
DTSTART:20301103T070000
END:STANDARD
BEGIN:DAYLIGHT
TZOFFSETFROM:-0600
TZOFFSETTO:-0500
TZNAME:CDT
DTSTART:20310309T080000
END:DAYLIGHT
BEGIN:STANDARD
TZOFFSETFROM:-0500
TZOFFSETTO:-0600
TZNAME:CST
DTSTART:20311102T070000
END:STANDARD
END:VTIMEZONE
BEGIN:VTIMEZONE
TZID:America/New_York
BEGIN:DAYLIGHT
TZOFFSETFROM:-0500
TZOFFSETTO:-0400
TZNAME:EDT
DTSTART:20250309T070000
END:DAYLIGHT
BEGIN:STANDARD
TZOFFSETFROM:-0400
TZOFFSETTO:-0500
TZNAME:EST
DTSTART:20251102T060000
END:STANDARD
BEGIN:DAYLIGHT
TZOFFSETFROM:-0500
TZOFFSETTO:-0400
TZNAME:EDT
DTSTART:20260308T070000
END:DAYLIGHT
BEGIN:STANDARD
TZOFFSETFROM:-0400
TZOFFSETTO:-0500
TZNAME:EST
DTSTART:20261101T060000
END:STANDARD
BEGIN:DAYLIGHT
TZOFFSETFROM:-0500
TZOFFSETTO:-0400
TZNAME:EDT
DTSTART:20270314T070000
END:DAYLIGHT
BEGIN:STANDARD
TZOFFSETFROM:-0400
TZOFFSETTO:-0500
TZNAME:EST
DTSTART:20271107T060000
END:STANDARD
BEGIN:DAYLIGHT
TZOFFSETFROM:-0500
TZOFFSETTO:-0400
TZNAME:EDT
DTSTART:20280312T070000
END:DAYLIGHT
BEGIN:STANDARD
TZOFFSETFROM:-0400
TZOFFSETTO:-0500
TZNAME:EST
DTSTART:20281105T060000
END:STANDARD
BEGIN:DAYLIGHT
TZOFFSETFROM:-0500
TZOFFSETTO:-0400
TZNAME:EDT
DTSTART:20290311T070000
END:DAYLIGHT
BEGIN:STANDARD
TZOFFSETFROM:-0400
TZOFFSETTO:-0500
TZNAME:EST
DTSTART:20291104T060000
END:STANDARD
BEGIN:DAYLIGHT
TZOFFSETFROM:-0500
TZOFFSETTO:-0400
TZNAME:EDT
DTSTART:20300310T070000
END:DAYLIGHT
BEGIN:STANDARD
TZOFFSETFROM:-0400
TZOFFSETTO:-0500
TZNAME:EST
DTSTART:20301103T060000
END:STANDARD
BEGIN:DAYLIGHT
TZOFFSETFROM:-0500
TZOFFSETTO:-0400
TZNAME:EDT
DTSTART:20310309T070000
END:DAYLIGHT
BEGIN:STANDARD
TZOFFSETFROM:-0400
TZOFFSETTO:-0500
TZNAME:EST
DTSTART:20311102T060000
END:STANDARD
END:VTIMEZONE
BEGIN:VEVENT
DTSTART;TZID=America/Chicago:20260713T190000
DTEND;TZID=America/Chicago:20260713T200000
DTSTAMP:20260421T133217
CREATED:20250929T160527Z
LAST-MODIFIED:20260413T132655Z
UID:35701-1783969200-1783972800@www.aana.com
SUMMARY:Resident Roundtable Session 4: The Clinical Experience: What’s Hard\, What Helps\, What Matter
DESCRIPTION:July 13\, 2026 | 7:00 PM CT \nTheme: The Clinical Experience: What’s Hard\, What Helps\, What Matter \nRegister now
URL:https://www.aana.com/event/resident-roundtable-session-4/
LOCATION:D.C.
CATEGORIES:AANA Events,AANA Events & Deadlines
ORGANIZER;CN="American Association of Nurse Anesthesiology":MAILTO:online-education@aana.com
END:VEVENT
BEGIN:VEVENT
DTSTART;VALUE=DATE:20260821
DTEND;VALUE=DATE:20260826
DTSTAMP:20260421T133217
CREATED:20230912T132431Z
LAST-MODIFIED:20250911T213226Z
UID:18046-1787270400-1787702399@www.aana.com
SUMMARY:AANA Annual Congress 2026
DESCRIPTION:Join us in Boston for nurse anesthesia’s largest educational event\, August 21 – 25\, 2026.  #AANA2026.\nSign up for updates.
URL:https://www.aana.com/event/aana-annual-congress-2026/
LOCATION:Thomas Michael Menino Convention & Exhibition Center\, 415 Summer St\, Boston\, MA\, 02210\, United States
CATEGORIES:AANA Events,AANA Events & Deadlines,Annual Congress
END:VEVENT
BEGIN:VEVENT
DTSTART;VALUE=DATE:20260821
DTEND;VALUE=DATE:20260822
DTSTAMP:20260421T133217
CREATED:20251008T202417Z
LAST-MODIFIED:20251016T190510Z
UID:35859-1787270400-1787356799@www.aana.com
SUMMARY:AANA Board of Directors Meeting - August 2026
DESCRIPTION:AANA Board of Directors Meeting \nThomas Michael Menino Convention & Exhibition Center \nBoston\, MA \nTiming will be posted closer to the meeting. \nRegistration will be posted closer to the meeting. \nLearn more
URL:https://www.aana.com/event/aana-board-of-directors-meeting-august-2026/
LOCATION:D.C.
CATEGORIES:AANA Events,AANA Events & Deadlines
ORGANIZER;CN="American Association of Nurse Anesthesiology":MAILTO:online-education@aana.com
END:VEVENT
BEGIN:VEVENT
DTSTART;VALUE=DATE:20260930
DTEND;VALUE=DATE:20261001
DTSTAMP:20260421T133217
CREATED:20250512T163912Z
LAST-MODIFIED:20260311T155732Z
UID:32753-1790726400-1790812799@www.aana.com
SUMMARY:Deadline for AANA Foundation Grants
DESCRIPTION:AANA Foundation funds scholarships\, doctoral and post-doctoral CRNA Scholars\, post-doctoral fellowships\, research grants\, and oral “State of the Science” poster sessions\, as well as coordinates general poster sessions and the doctoral mentorship program.   \nThe deadline for the following grants is September 30\, 2026.  \n\nResearch Grants (General and Dedicated) \n\n\nDiversity\, Equity\, and Inclusion (DEI) Initiative Grant \n\nLearn more.
URL:https://www.aana.com/event/deadline-for-aana-foundation-grants-2/
LOCATION:D.C.
CATEGORIES:AANA Events,AANA Events & Deadlines
ORGANIZER;CN="American Association of Nurse Anesthesiology":MAILTO:online-education@aana.com
END:VEVENT
BEGIN:VEVENT
DTSTART;VALUE=DATE:20270117
DTEND;VALUE=DATE:20270124
DTSTAMP:20260421T133217
CREATED:20240519T154016Z
LAST-MODIFIED:20251016T190521Z
UID:23787-1800144000-1800748799@www.aana.com
SUMMARY:National CRNA Week 2027
DESCRIPTION:Since 2000\, National CRNA Week has been the annual celebration of our nation’s CRNAs/nurse anesthesiologists and Nurse Anesthesia Residents.
URL:https://www.aana.com/event/national-crna-week-2027/
LOCATION:D.C.
CATEGORIES:AANA Events,AANA Events & Deadlines,CRNA Week
END:VEVENT
BEGIN:VEVENT
DTSTART;VALUE=DATE:20270225
DTEND;VALUE=DATE:20270301
DTSTAMP:20260421T133217
CREATED:20250521T200035Z
LAST-MODIFIED:20250911T204720Z
UID:32895-1803513600-1803859199@www.aana.com
SUMMARY:EDGE 2027
DESCRIPTION:Sheraton Dallas Hotel — Dallas\, TX \nJoin fellow nurse anesthesia faculty\, program directors\, and administrators for EDGE\, the premier educator-to-educator event in nurse anesthesiology. \nSign up for update\, including when registration opens:
URL:https://www.aana.com/event/edge-2027/
LOCATION:Sheraton Dallas Hotel\, 400 Olive St.\, Dallas\, TX\, 75201\, United States
CATEGORIES:AANA Events,AANA Events & Deadlines,EDGE
ORGANIZER;CN="American Association of Nurse Anesthesiology":MAILTO:online-education@aana.com
END:VEVENT
BEGIN:VEVENT
DTSTART;VALUE=DATE:20270416
DTEND;VALUE=DATE:20270422
DTSTAMP:20260421T133217
CREATED:20240430T201014Z
LAST-MODIFIED:20250911T211757Z
UID:23481-1807833600-1808351999@www.aana.com
SUMMARY:Mid-Year Assembly 2027
DESCRIPTION:BE THE VOICE OF THE CRNA!\nJoin hundreds of your fellow CRNAs and residents in the nation’s capital for the most productive and exciting meeting of the year. \nSign up for updates.
URL:https://www.aana.com/event/mid-year-assembly-2027/
LOCATION:JW Marriott Washington\, DC\, Washington\, DC
CATEGORIES:AANA Events,AANA Events & Deadlines,Mid-Year Assembly
END:VEVENT
BEGIN:VEVENT
DTSTART;VALUE=DATE:20270808
DTEND;VALUE=DATE:20270813
DTSTAMP:20260421T133217
CREATED:20231220T202646Z
LAST-MODIFIED:20260325T154406Z
UID:19987-1817683200-1818115199@www.aana.com
SUMMARY:AANA Annual Congress 2027
DESCRIPTION:Join us in New Orleans\, LA for nurse anesthesia’s largest educational event\, August 8 – 12\, 2027.  #AANA2027.\nSign up for updates.
URL:https://www.aana.com/event/aana-annual-congress-2027/
LOCATION:Ernest N. Morial Convention Center\, 900 Convention Center Blvd\, New Orleans\, LA\, 70130\, United States
CATEGORIES:AANA Events,AANA Events & Deadlines,Annual Congress
END:VEVENT
BEGIN:VEVENT
DTSTART;VALUE=DATE:20280123
DTEND;VALUE=DATE:20280130
DTSTAMP:20260421T133217
CREATED:20251007T145949Z
LAST-MODIFIED:20251016T190611Z
UID:35810-1832198400-1832803199@www.aana.com
SUMMARY:National CRNA Week 2028
DESCRIPTION:Since 2000\, National CRNA Week has been the annual celebration of our nation’s CRNAs/nurse anesthesiologists and Nurse Anesthesia Residents.
URL:https://www.aana.com/event/national-crna-week-2028/
LOCATION:D.C.
CATEGORIES:AANA Events,AANA Events & Deadlines,CRNA Week
END:VEVENT
BEGIN:VEVENT
DTSTART;VALUE=DATE:20280421
DTEND;VALUE=DATE:20280427
DTSTAMP:20260421T133217
CREATED:20241113T154535Z
LAST-MODIFIED:20250911T211727Z
UID:28439-1839888000-1840406399@www.aana.com
SUMMARY:Mid-Year Assembly 2028
DESCRIPTION:BE THE VOICE OF THE CRNA!\nJoin hundreds of your fellow CRNAs and residents in the nation’s capital for the most productive and exciting meeting of the year. \nSign up for updates.
URL:https://www.aana.com/event/mid-year-assembly-2028/
LOCATION:JW Marriott Washington\, DC\, Washington\, DC
CATEGORIES:AANA Events,AANA Events & Deadlines,Mid-Year Assembly
END:VEVENT
BEGIN:VEVENT
DTSTART;VALUE=DATE:20280819
DTEND;VALUE=DATE:20280824
DTSTAMP:20260421T133217
CREATED:20241113T153912Z
LAST-MODIFIED:20260414T141648Z
UID:28427-1850256000-1850687999@www.aana.com
SUMMARY:AANA Annual Congress 2028
DESCRIPTION:Join us in Nashville\, TN for nurse anesthesia’s largest educational event\, August 19 – 23\, 2028.  #AANA2028.\nSign up for updates.
URL:https://www.aana.com/event/aana-annual-congress-2028/
LOCATION:Music City Center – Nashville\, TN\, 201 Rep. John Lewis Way S\, Nashville\, TN\, 37203\, United States
CATEGORIES:AANA Events,AANA Events & Deadlines,Annual Congress
END:VEVENT
BEGIN:VEVENT
DTSTART;VALUE=DATE:20290121
DTEND;VALUE=DATE:20290128
DTSTAMP:20260421T133217
CREATED:20251007T150017Z
LAST-MODIFIED:20251016T190621Z
UID:35812-1863648000-1864252799@www.aana.com
SUMMARY:National CRNA Week 2029
DESCRIPTION:Since 2000\, National CRNA Week has been the annual celebration of our nation’s CRNAs/nurse anesthesiologists and Nurse Anesthesia Residents.
URL:https://www.aana.com/event/national-crna-week-2029/
LOCATION:D.C.
CATEGORIES:AANA Events,AANA Events & Deadlines,CRNA Week
END:VEVENT
BEGIN:VEVENT
DTSTART;VALUE=DATE:20290414
DTEND;VALUE=DATE:20290419
DTSTAMP:20260421T133217
CREATED:20251015T132347Z
LAST-MODIFIED:20251015T132347Z
UID:35937-1870819200-1871251199@www.aana.com
SUMMARY:Mid-Year Assembly 2029
DESCRIPTION:BE THE VOICE OF THE CRNA!\nJoin hundreds of your fellow CRNAs and residents in the nation’s capital for the most productive and exciting meeting of the year. \nSign up for updates.
URL:https://www.aana.com/event/mid-year-assembly-2029/
LOCATION:Grand Hyatt Washington\, D.C.\, Washington\, DC
CATEGORIES:AANA Events,AANA Events & Deadlines,Mid-Year Assembly
END:VEVENT
BEGIN:VEVENT
DTSTART;VALUE=DATE:20290812
DTEND;VALUE=DATE:20290817
DTSTAMP:20260421T133217
CREATED:20241113T154300Z
LAST-MODIFIED:20250911T213209Z
UID:28431-1881187200-1881619199@www.aana.com
SUMMARY:AANA Annual Congress 2029
DESCRIPTION:Join us in San Antonio\, TX for nurse anesthesia’s largest educational event\, August 12 – 16\, 2029.  #AANA2029.\nSign up for updates.
URL:https://www.aana.com/event/aana-annual-congress-2029/
LOCATION:Henry B. González Convention Center\, 900 E Market St\, San Antonio\, TX\, 78205\, United States
CATEGORIES:AANA Events,AANA Events & Deadlines,Annual Congress
END:VEVENT
BEGIN:VEVENT
DTSTART;VALUE=DATE:20300120
DTEND;VALUE=DATE:20300127
DTSTAMP:20260421T133217
CREATED:20251007T150218Z
LAST-MODIFIED:20251016T190629Z
UID:35814-1895097600-1895702399@www.aana.com
SUMMARY:National CRNA Week 2030
DESCRIPTION:Since 2000\, National CRNA Week has been the annual celebration of our nation’s CRNAs/nurse anesthesiologists and Nurse Anesthesia Residents.
URL:https://www.aana.com/event/national-crna-week-2030/
LOCATION:D.C.
CATEGORIES:AANA Events,AANA Events & Deadlines,CRNA Week
END:VEVENT
BEGIN:VEVENT
DTSTART;VALUE=DATE:20300406
DTEND;VALUE=DATE:20300411
DTSTAMP:20260421T133217
CREATED:20251015T132516Z
LAST-MODIFIED:20251015T132516Z
UID:35940-1901664000-1902095999@www.aana.com
SUMMARY:Mid-Year Assembly 2030
DESCRIPTION:BE THE VOICE OF THE CRNA!\nJoin hundreds of your fellow CRNAs and residents in the nation’s capital for the most productive and exciting meeting of the year. \nSign up for updates.
URL:https://www.aana.com/event/mid-year-assembly-2030/
LOCATION:Grand Hyatt Washington\, D.C.\, Washington\, DC
CATEGORIES:AANA Events,AANA Events & Deadlines,Mid-Year Assembly
END:VEVENT
BEGIN:VEVENT
DTSTART;VALUE=DATE:20300825
DTEND;VALUE=DATE:20300830
DTSTAMP:20260421T133217
CREATED:20241113T154436Z
LAST-MODIFIED:20250911T213130Z
UID:28435-1913846400-1914278399@www.aana.com
SUMMARY:AANA Annual Congress 2030
DESCRIPTION:Join us in Boston\, MA for nurse anesthesia’s largest educational event\, August 25 – 29\, 2030.  #AANA2030.\nSign up for updates.
URL:https://www.aana.com/event/aana-annual-congress-2030/
LOCATION:Thomas Michael Menino Convention & Exhibition Center\, 415 Summer St\, Boston\, MA\, 02210\, United States
CATEGORIES:AANA Events,AANA Events & Deadlines,Annual Congress
END:VEVENT
END:VCALENDAR