BEGIN:VCALENDAR
VERSION:2.0
PRODID:-//AANA - American Association of Nurse Anesthesiology - ECPv6.15.14//NONSGML v1.0//EN
CALSCALE:GREGORIAN
METHOD:PUBLISH
X-ORIGINAL-URL:https://www.aana.com
X-WR-CALDESC:Events for AANA - American Association of Nurse Anesthesiology
REFRESH-INTERVAL;VALUE=DURATION:PT1H
X-Robots-Tag:noindex
X-PUBLISHED-TTL:PT1H
BEGIN:VTIMEZONE
TZID:America/Chicago
BEGIN:DAYLIGHT
TZOFFSETFROM:-0600
TZOFFSETTO:-0500
TZNAME:CDT
DTSTART:20250309T080000
END:DAYLIGHT
BEGIN:STANDARD
TZOFFSETFROM:-0500
TZOFFSETTO:-0600
TZNAME:CST
DTSTART:20251102T070000
END:STANDARD
BEGIN:DAYLIGHT
TZOFFSETFROM:-0600
TZOFFSETTO:-0500
TZNAME:CDT
DTSTART:20260308T080000
END:DAYLIGHT
BEGIN:STANDARD
TZOFFSETFROM:-0500
TZOFFSETTO:-0600
TZNAME:CST
DTSTART:20261101T070000
END:STANDARD
BEGIN:DAYLIGHT
TZOFFSETFROM:-0600
TZOFFSETTO:-0500
TZNAME:CDT
DTSTART:20270314T080000
END:DAYLIGHT
BEGIN:STANDARD
TZOFFSETFROM:-0500
TZOFFSETTO:-0600
TZNAME:CST
DTSTART:20271107T070000
END:STANDARD
END:VTIMEZONE
BEGIN:VEVENT
DTSTART;TZID=America/Chicago:20260501T115900
DTEND;TZID=America/Chicago:20260501T120000
DTSTAMP:20260421T145805
CREATED:20260212T092503Z
LAST-MODIFIED:20260401T133154Z
UID:38608-1777636740-1777636800@www.aana.com
SUMMARY:Rm8 iNoV8 Pitch Competition at Annual Congress 2026
DESCRIPTION:Annual Congress\nAug 23\, 2026\nBoston\, MA \nCheer on nurse anesthesiology innovators as they pitch their unique ideas on our profession’s largest stage. The Rm8 iNoV8 Pitch Competition gives CRNAs/nurse anesthesiologists a chance to build their business with Rm8\, AANA’s innovation lab. Five entrepreneurs will go head-to-head for the $15\,000 prize with original concepts that enhance patient safety\, patient outcomes\, or provider experience. \nWant to compete? Submit your application by Friday\, May 1\, 2026 at noon CT. \n\n 
URL:https://www.aana.com/event/rm8-inov8-pitch-competition-at-annual-congress-2026/
CATEGORIES:AANA Events,AANA Events & Deadlines
END:VEVENT
BEGIN:VEVENT
DTSTART;TZID=America/Chicago:20260504T190000
DTEND;TZID=America/Chicago:20260504T200000
DTSTAMP:20260421T145805
CREATED:20260302T224408Z
LAST-MODIFIED:20260302T224454Z
UID:39130-1777921200-1777924800@www.aana.com
SUMMARY:AANA Virtual Bylaws and Resolutions Hearing
DESCRIPTION:Join your colleagues to learn about proposed bylaw amendments and resolutions.  Registration required. \nRegister Here
URL:https://www.aana.com/event/aana-virtual-bylaws-and-resolutions-hearing/
CATEGORIES:AANA Events,AANA Governance
ORGANIZER;CN="American Association of Nurse Anesthesiology":MAILTO:online-education@aana.com
END:VEVENT
BEGIN:VEVENT
DTSTART;VALUE=DATE:20260512
DTEND;VALUE=DATE:20260527
DTSTAMP:20260421T145805
CREATED:20250911T213044Z
LAST-MODIFIED:20250911T213110Z
UID:35353-1778544000-1779839999@www.aana.com
SUMMARY:2026 AANA Election
DESCRIPTION:Voting for the 2026 Election (Membership Year 2027) will be open online in May 2026. \nLearn More
URL:https://www.aana.com/event/2026-aana-election/
CATEGORIES:AANA Events,AANA Governance
ORGANIZER;CN="American Association of Nurse Anesthesiology":MAILTO:online-education@aana.com
END:VEVENT
BEGIN:VEVENT
DTSTART;VALUE=DATE:20260516
DTEND;VALUE=DATE:20260518
DTSTAMP:20260421T145805
CREATED:20260106T151306Z
LAST-MODIFIED:20260407T210503Z
UID:37288-1778889600-1779062399@www.aana.com
SUMMARY:Spinal/Epidural with Obstetric Essentials Workshop
DESCRIPTION:Join us for one of our most highly recommended workshops to earn CE credits\, get hands-on practice\, and learn clinical techniques you can apply right away. \nWhen: May 16-17 \nWhere: University of Cincinnati College of Nursing \nWho: CRNAs/nurse anesthesiologists interested in spinal\, epidural\, and obstetrics anesthesia \nCost: $1\,099 members/ $1\,319 nonmembers\n*Cost includes self-study online modules that must be completed before the hands-on workshop. \nIf you’re unable to attend or the event is sold out\, sign up here for early access to future dates.
URL:https://www.aana.com/event/spinal-epidural-with-obstetric-essentials-workshop/
LOCATION:University of Cincinnati College of Nursing\, Cincinnati\, OH
CATEGORIES:AANA Events,AANA Events & Deadlines
END:VEVENT
BEGIN:VEVENT
DTSTART;TZID=America/Chicago:20260518T190000
DTEND;TZID=America/Chicago:20260518T200000
DTSTAMP:20260421T145805
CREATED:20250929T160501Z
LAST-MODIFIED:20260413T132700Z
UID:35698-1779130800-1779134400@www.aana.com
SUMMARY:Resident Roundtable Session 3: Stronger Through Board Prep: Strategies and Support
DESCRIPTION:May 18\, 2026 | 7:00 PM CT \nTheme: Stronger Through Board Prep: Strategies and Support \nRegister now
URL:https://www.aana.com/event/resident-roundtable-session-3/
CATEGORIES:AANA Events,AANA Events & Deadlines
ORGANIZER;CN="American Association of Nurse Anesthesiology":MAILTO:online-education@aana.com
END:VEVENT
END:VCALENDAR